Package: BiocGenerics Version: 0.38.0 Command: /Library/Frameworks/R.framework/Versions/Current/Resources/bin/R CMD INSTALL BiocGenerics StartedAt: 2021-10-14 08:22:01 -0400 (Thu, 14 Oct 2021) EndedAt: 2021-10-14 08:23:01 -0400 (Thu, 14 Oct 2021) EllapsedTime: 59.2 seconds RetCode: 0 Status: OK