Package: BiocGenerics Version: 0.38.0 Command: /Library/Frameworks/R.framework/Versions/Current/Resources/bin/R CMD check --install=check:BiocGenerics.install-out.txt --library=/Library/Frameworks/R.framework/Versions/Current/Resources/library --no-vignettes --timings BiocGenerics_0.38.0.tar.gz StartedAt: 2021-10-14 16:44:13 -0400 (Thu, 14 Oct 2021) EndedAt: 2021-10-14 16:45:25 -0400 (Thu, 14 Oct 2021) EllapsedTime: 72.3 seconds RetCode: 0 Status: WARNINGS CheckDir: BiocGenerics.Rcheck Warnings: 1