Package: BiocGenerics Version: 0.38.0 Command: /Library/Frameworks/R.framework/Versions/Current/Resources/bin/R CMD build --keep-empty-dirs --no-resave-data BiocGenerics StartedAt: 2021-10-14 10:50:56 -0400 (Thu, 14 Oct 2021) EndedAt: 2021-10-14 10:51:08 -0400 (Thu, 14 Oct 2021) EllapsedTime: 12.4 seconds RetCode: 0 Status: OK PackageFile: BiocGenerics_0.38.0.tar.gz PackageFileSize: 45.72 KiB