Package: BiocFileCache Version: 2.0.0 Command: rm -rf BiocFileCache.buildbin-libdir && mkdir BiocFileCache.buildbin-libdir && C:\Users\biocbuild\bbs-3.13-bioc\R\bin\R.exe CMD INSTALL --merge-multiarch --build --library=BiocFileCache.buildbin-libdir BiocFileCache_2.0.0.tar.gz StartedAt: 2021-10-15 08:13:23 -0400 (Fri, 15 Oct 2021) EndedAt: 2021-10-15 08:15:00 -0400 (Fri, 15 Oct 2021) EllapsedTime: 96.7 seconds RetCode: 0 Status: OK PackageFile: BiocFileCache_2.0.0.zip PackageFileSize: 547.9 KiB