Package: BiocDockerManager Version: 1.4.0 Command: chmod a+r BiocDockerManager -R && C:\Users\biocbuild\bbs-3.13-bioc\R\bin\R.exe CMD build --keep-empty-dirs --no-resave-data BiocDockerManager StartedAt: 2021-10-14 12:02:29 -0400 (Thu, 14 Oct 2021) EndedAt: 2021-10-14 12:03:30 -0400 (Thu, 14 Oct 2021) EllapsedTime: 60.4 seconds RetCode: 0 Status: OK PackageFile: BiocDockerManager_1.4.0.tar.gz PackageFileSize: 232.6 KiB