git_url: https://git.bioconductor.org/packages/BiocDockerManager git_branch: RELEASE_3_13 git_last_commit: 16ea460 git_last_commit_date: 2021-05-19 12:50:55 -0400 (Wed, 19 May 2021) Package: BiocDockerManager Version: 1.4.0 Maintainer: Bioconductor Package Maintainer MaintainerEmail: maintainer at bioconductor.org