Package: BiocCheck Version: 1.28.0 Command: /Library/Frameworks/R.framework/Versions/Current/Resources/bin/R CMD INSTALL BiocCheck StartedAt: 2021-10-14 09:02:24 -0400 (Thu, 14 Oct 2021) EndedAt: 2021-10-14 09:03:23 -0400 (Thu, 14 Oct 2021) EllapsedTime: 58.7 seconds RetCode: 0 Status: OK