Package: BiocCheck Version: 1.28.0 Command: /Library/Frameworks/R.framework/Versions/Current/Resources/bin/R CMD check --install=check:BiocCheck.install-out.txt --library=/Library/Frameworks/R.framework/Versions/Current/Resources/library --no-vignettes --timings BiocCheck_1.28.0.tar.gz StartedAt: 2021-10-14 16:43:45 -0400 (Thu, 14 Oct 2021) EndedAt: 2021-10-14 16:45:56 -0400 (Thu, 14 Oct 2021) EllapsedTime: 130.4 seconds RetCode: 0 Status: OK CheckDir: BiocCheck.Rcheck Warnings: 0