Package: BiocCheck Version: 1.28.0 Command: /Library/Frameworks/R.framework/Versions/Current/Resources/bin/R CMD build --keep-empty-dirs --no-resave-data BiocCheck StartedAt: 2021-10-14 10:50:23 -0400 (Thu, 14 Oct 2021) EndedAt: 2021-10-14 10:50:43 -0400 (Thu, 14 Oct 2021) EllapsedTime: 19.8 seconds RetCode: 0 Status: OK PackageFile: BiocCheck_1.28.0.tar.gz PackageFileSize: 4.155 MiB