Package: BiocCheck Version: 1.28.0 Command: rm -rf BiocCheck.buildbin-libdir && mkdir BiocCheck.buildbin-libdir && /Users/biocbuild/BBS/utils/build-universal.sh BiocCheck_1.28.0.tar.gz /Library/Frameworks/R.framework/Versions/Current/Resources/bin/R BiocCheck.buildbin-libdir StartedAt: 2021-10-15 01:43:02 -0400 (Fri, 15 Oct 2021) EndedAt: 2021-10-15 01:44:13 -0400 (Fri, 15 Oct 2021) EllapsedTime: 70.2 seconds RetCode: 0 Status: OK PackageFile: BiocCheck_1.28.0.tgz PackageFileSize: 4.372 MiB