Package: BiocCaseStudies Version: 1.54.0 Command: C:\cygwin\bin\curl.exe -O http://155.52.207.165/BBS/3.13/bioc/src/contrib/BiocCaseStudies_1.54.0.tar.gz && rm -rf BiocCaseStudies.buildbin-libdir && mkdir BiocCaseStudies.buildbin-libdir && C:\Users\biocbuild\bbs-3.13-bioc\R\bin\R.exe CMD INSTALL --merge-multiarch --build --library=BiocCaseStudies.buildbin-libdir BiocCaseStudies_1.54.0.tar.gz && C:\Users\biocbuild\bbs-3.13-bioc\R\bin\R.exe CMD INSTALL BiocCaseStudies_1.54.0.zip && rm BiocCaseStudies_1.54.0.tar.gz BiocCaseStudies_1.54.0.zip StartedAt: 2021-10-14 07:50:24 -0400 (Thu, 14 Oct 2021) EndedAt: 2021-10-14 07:51:17 -0400 (Thu, 14 Oct 2021) EllapsedTime: 52.8 seconds RetCode: 0 Status: OK