Package: BiocCaseStudies Version: 1.54.0 Command: /Library/Frameworks/R.framework/Versions/Current/Resources/bin/R CMD INSTALL BiocCaseStudies StartedAt: 2021-10-14 08:33:39 -0400 (Thu, 14 Oct 2021) EndedAt: 2021-10-14 08:34:23 -0400 (Thu, 14 Oct 2021) EllapsedTime: 44.0 seconds RetCode: 0 Status: OK