git_url: https://git.bioconductor.org/packages/BioTIP git_branch: RELEASE_3_13 git_last_commit: 42fb23f git_last_commit_date: 2021-05-19 12:46:34 -0400 (Wed, 19 May 2021) Package: BioTIP Version: 1.6.0 Maintainer: Yuxi (Jennifer) Sun , Zhezhen Wang , and X Holly Yang MaintainerEmail: xyang2 at uchicago.edu