Package: BioQC Version: 1.20.0 Command: C:\cygwin\bin\curl.exe -O http://155.52.207.165/BBS/3.13/bioc/src/contrib/BioQC_1.20.0.tar.gz && rm -rf BioQC.buildbin-libdir && mkdir BioQC.buildbin-libdir && C:\Users\biocbuild\bbs-3.13-bioc\R\bin\R.exe CMD INSTALL --merge-multiarch --build --library=BioQC.buildbin-libdir BioQC_1.20.0.tar.gz && C:\Users\biocbuild\bbs-3.13-bioc\R\bin\R.exe CMD INSTALL BioQC_1.20.0.zip && rm BioQC_1.20.0.tar.gz BioQC_1.20.0.zip StartedAt: 2021-10-14 07:40:49 -0400 (Thu, 14 Oct 2021) EndedAt: 2021-10-14 07:42:51 -0400 (Thu, 14 Oct 2021) EllapsedTime: 121.6 seconds RetCode: 0 Status: OK