Package: BioQC Version: 1.20.0 Command: /Library/Frameworks/R.framework/Versions/Current/Resources/bin/R CMD check --install=check:BioQC.install-out.txt --library=/Library/Frameworks/R.framework/Versions/Current/Resources/library --no-vignettes --timings BioQC_1.20.0.tar.gz StartedAt: 2021-10-14 16:49:38 -0400 (Thu, 14 Oct 2021) EndedAt: 2021-10-14 16:50:57 -0400 (Thu, 14 Oct 2021) EllapsedTime: 78.8 seconds RetCode: 0 Status: OK CheckDir: BioQC.Rcheck Warnings: 0