Package: BioQC Version: 1.20.0 Command: /Library/Frameworks/R.framework/Versions/Current/Resources/bin/R CMD build --keep-empty-dirs --no-resave-data BioQC StartedAt: 2021-10-14 10:53:45 -0400 (Thu, 14 Oct 2021) EndedAt: 2021-10-14 10:56:30 -0400 (Thu, 14 Oct 2021) EllapsedTime: 164.4 seconds RetCode: 0 Status: OK PackageFile: BioQC_1.20.0.tar.gz PackageFileSize: 4.185 MiB