Package: BioNetStat Version: 1.12.0 Command: /home/biocbuild/bbs-3.13-bioc/R/bin/R CMD INSTALL BioNetStat StartedAt: 2021-10-14 06:35:51 -0400 (Thu, 14 Oct 2021) EndedAt: 2021-10-14 06:36:11 -0400 (Thu, 14 Oct 2021) EllapsedTime: 20.9 seconds RetCode: 0 Status: OK