Package: BioNet Version: 1.52.0 Command: /Library/Frameworks/R.framework/Versions/Current/Resources/bin/R CMD build --keep-empty-dirs --no-resave-data BioNet StartedAt: 2021-10-14 10:53:33 -0400 (Thu, 14 Oct 2021) EndedAt: 2021-10-14 10:54:58 -0400 (Thu, 14 Oct 2021) EllapsedTime: 84.8 seconds RetCode: 0 Status: OK PackageFile: BioNet_1.52.0.tar.gz PackageFileSize: 1.699 MiB