git_url: https://git.bioconductor.org/packages/BioNet git_branch: RELEASE_3_13 git_last_commit: 5045304 git_last_commit_date: 2021-05-19 11:46:01 -0400 (Wed, 19 May 2021) Package: BioNet Version: 1.52.0 Maintainer: Marcus Dittrich MaintainerEmail: marcus.dittrich at biozentrum.uni-wuerzburg.de