Package: BioNERO Version: 1.0.4 Command: /home/biocbuild/bbs-3.13-bioc/R/bin/R CMD INSTALL BioNERO StartedAt: 2021-10-14 06:33:56 -0400 (Thu, 14 Oct 2021) EndedAt: 2021-10-14 06:34:27 -0400 (Thu, 14 Oct 2021) EllapsedTime: 30.6 seconds RetCode: 0 Status: OK