Package: BiSeq Version: 1.32.0 Command: C:\Users\biocbuild\bbs-3.13-bioc\R\bin\R.exe --arch x64 CMD check --no-multiarch --install=check:BiSeq.install-out.txt --library=C:\Users\biocbuild\bbs-3.13-bioc\R\library --no-vignettes --timings BiSeq_1.32.0.tar.gz StartedAt: 2021-10-14 20:20:37 -0400 (Thu, 14 Oct 2021) EndedAt: 2021-10-14 20:27:10 -0400 (Thu, 14 Oct 2021) EllapsedTime: 393.4 seconds RetCode: 0 Status: OK CheckDir: BiSeq.Rcheck Warnings: 0