Package: BiSeq Version: 1.32.0 Command: /home/biocbuild/bbs-3.13-bioc/R/bin/R CMD INSTALL BiSeq StartedAt: 2021-10-14 06:23:04 -0400 (Thu, 14 Oct 2021) EndedAt: 2021-10-14 06:23:38 -0400 (Thu, 14 Oct 2021) EllapsedTime: 33.6 seconds RetCode: 0 Status: OK