Package: BiSeq Version: 1.32.0 Command: /home/biocbuild/bbs-3.13-bioc/R/bin/R CMD build --keep-empty-dirs --no-resave-data BiSeq StartedAt: 2021-10-14 06:49:22 -0400 (Thu, 14 Oct 2021) EndedAt: 2021-10-14 06:50:59 -0400 (Thu, 14 Oct 2021) EllapsedTime: 97.2 seconds RetCode: 0 Status: OK PackageFile: BiSeq_1.32.0.tar.gz PackageFileSize: 948.2 KiB