Package: BiGGR Version: 1.28.0 Command: C:\Users\biocbuild\bbs-3.13-bioc\R\bin\R.exe --arch x64 CMD INSTALL --no-multiarch BiGGR StartedAt: 2021-10-14 09:06:23 -0400 (Thu, 14 Oct 2021) EndedAt: 2021-10-14 09:07:14 -0400 (Thu, 14 Oct 2021) EllapsedTime: 51.2 seconds RetCode: 0 Status: OK