Package: BiGGR Version: 1.28.0 Command: chmod a+r BiGGR -R && C:\Users\biocbuild\bbs-3.13-bioc\R\bin\R.exe --arch x64 CMD build --keep-empty-dirs --no-resave-data BiGGR StartedAt: 2021-10-14 12:00:18 -0400 (Thu, 14 Oct 2021) EndedAt: 2021-10-14 12:00:44 -0400 (Thu, 14 Oct 2021) EllapsedTime: 26.8 seconds RetCode: 0 Status: OK PackageFile: BiGGR_1.28.0.tar.gz PackageFileSize: 4.235 MiB