Package: BgeeDB Version: 2.18.1 Command: /home/biocbuild/bbs-3.13-bioc/R/bin/R CMD INSTALL BgeeDB StartedAt: 2021-10-14 06:21:23 -0400 (Thu, 14 Oct 2021) EndedAt: 2021-10-14 06:21:42 -0400 (Thu, 14 Oct 2021) EllapsedTime: 18.8 seconds RetCode: 0 Status: OK