Package: BgeeDB Version: 2.18.1 Command: /home/biocbuild/bbs-3.13-bioc/R/bin/R CMD build --keep-empty-dirs --no-resave-data BgeeDB StartedAt: 2021-10-14 06:45:52 -0400 (Thu, 14 Oct 2021) EndedAt: 2021-10-14 07:04:17 -0400 (Thu, 14 Oct 2021) EllapsedTime: 1105.1 seconds RetCode: 0 Status: OK PackageFile: BgeeDB_2.18.1.tar.gz PackageFileSize: 95.24 KiB