Package: BgeeDB Version: 2.18.1 Command: rm -rf BgeeDB.buildbin-libdir && mkdir BgeeDB.buildbin-libdir && /Users/biocbuild/BBS/utils/build-universal.sh BgeeDB_2.18.1.tar.gz /Library/Frameworks/R.framework/Versions/Current/Resources/bin/R BgeeDB.buildbin-libdir StartedAt: 2021-10-15 01:41:42 -0400 (Fri, 15 Oct 2021) EndedAt: 2021-10-15 01:42:52 -0400 (Fri, 15 Oct 2021) EllapsedTime: 69.5 seconds RetCode: 0 Status: OK PackageFile: BgeeDB_2.18.1.tgz PackageFileSize: 325 KiB