Package: BeadDataPackR Version: 1.44.0 Command: C:\cygwin\bin\curl.exe -O http://155.52.207.165/BBS/3.13/bioc/src/contrib/BeadDataPackR_1.44.0.tar.gz && rm -rf BeadDataPackR.buildbin-libdir && mkdir BeadDataPackR.buildbin-libdir && C:\Users\biocbuild\bbs-3.13-bioc\R\bin\R.exe CMD INSTALL --merge-multiarch --build --library=BeadDataPackR.buildbin-libdir BeadDataPackR_1.44.0.tar.gz && C:\Users\biocbuild\bbs-3.13-bioc\R\bin\R.exe CMD INSTALL BeadDataPackR_1.44.0.zip && rm BeadDataPackR_1.44.0.tar.gz BeadDataPackR_1.44.0.zip StartedAt: 2021-10-14 07:03:02 -0400 (Thu, 14 Oct 2021) EndedAt: 2021-10-14 07:03:37 -0400 (Thu, 14 Oct 2021) EllapsedTime: 35.0 seconds RetCode: 0 Status: OK