Package: BeadDataPackR Version: 1.44.0 Command: /Library/Frameworks/R.framework/Versions/Current/Resources/bin/R CMD check --install=check:BeadDataPackR.install-out.txt --library=/Library/Frameworks/R.framework/Versions/Current/Resources/library --no-vignettes --timings BeadDataPackR_1.44.0.tar.gz StartedAt: 2021-10-14 16:37:55 -0400 (Thu, 14 Oct 2021) EndedAt: 2021-10-14 16:38:23 -0400 (Thu, 14 Oct 2021) EllapsedTime: 27.7 seconds RetCode: 0 Status: OK CheckDir: BeadDataPackR.Rcheck Warnings: 0