git_url: https://git.bioconductor.org/packages/BatchQC git_branch: RELEASE_3_13 git_last_commit: 696d55c git_last_commit_date: 2021-05-19 12:19:44 -0400 (Wed, 19 May 2021) Package: BatchQC Version: 1.20.0 Maintainer: Solaiappan Manimaran MaintainerEmail: manimaran_1975 at hotmail.com