Package: BUMHMM Version: 1.16.0 Command: chmod a+r BUMHMM -R && C:\Users\biocbuild\bbs-3.13-bioc\R\bin\R.exe CMD build --keep-empty-dirs --no-resave-data BUMHMM StartedAt: 2021-10-14 12:27:43 -0400 (Thu, 14 Oct 2021) EndedAt: 2021-10-14 12:29:06 -0400 (Thu, 14 Oct 2021) EllapsedTime: 83.0 seconds RetCode: 0 Status: OK PackageFile: BUMHMM_1.16.0.tar.gz PackageFileSize: 729.1 KiB