Package: BSgenome Version: 1.60.0 Command: C:\cygwin\bin\curl.exe -O http://155.52.207.165/BBS/3.13/bioc/src/contrib/BSgenome_1.60.0.tar.gz && rm -rf BSgenome.buildbin-libdir && mkdir BSgenome.buildbin-libdir && C:\Users\biocbuild\bbs-3.13-bioc\R\bin\R.exe CMD INSTALL --merge-multiarch --build --library=BSgenome.buildbin-libdir BSgenome_1.60.0.tar.gz && C:\Users\biocbuild\bbs-3.13-bioc\R\bin\R.exe CMD INSTALL BSgenome_1.60.0.zip && rm BSgenome_1.60.0.tar.gz BSgenome_1.60.0.zip StartedAt: 2021-10-14 10:12:33 -0400 (Thu, 14 Oct 2021) EndedAt: 2021-10-14 10:14:08 -0400 (Thu, 14 Oct 2021) EllapsedTime: 94.9 seconds RetCode: 0 Status: OK