Package: BRAIN Version: 1.38.0 Command: rm -rf BRAIN.buildbin-libdir && mkdir BRAIN.buildbin-libdir && C:\Users\biocbuild\bbs-3.13-bioc\R\bin\R.exe CMD INSTALL --merge-multiarch --build --library=BRAIN.buildbin-libdir BRAIN_1.38.0.tar.gz StartedAt: 2021-10-15 08:19:59 -0400 (Fri, 15 Oct 2021) EndedAt: 2021-10-15 08:21:15 -0400 (Fri, 15 Oct 2021) EllapsedTime: 76.1 seconds RetCode: 0 Status: OK PackageFile: BRAIN_1.38.0.zip PackageFileSize: 1.993 MiB