Package: BRAIN Version: 1.38.0 Command: /Library/Frameworks/R.framework/Versions/Current/Resources/bin/R CMD INSTALL BRAIN StartedAt: 2021-10-14 08:30:54 -0400 (Thu, 14 Oct 2021) EndedAt: 2021-10-14 08:31:30 -0400 (Thu, 14 Oct 2021) EllapsedTime: 35.8 seconds RetCode: 0 Status: OK