Package: BRAIN Version: 1.38.0 Command: /Library/Frameworks/R.framework/Versions/Current/Resources/bin/R CMD check --install=check:BRAIN.install-out.txt --library=/Library/Frameworks/R.framework/Versions/Current/Resources/library --no-vignettes --timings BRAIN_1.38.0.tar.gz StartedAt: 2021-10-14 16:55:07 -0400 (Thu, 14 Oct 2021) EndedAt: 2021-10-14 16:56:35 -0400 (Thu, 14 Oct 2021) EllapsedTime: 88.6 seconds RetCode: 0 Status: WARNINGS CheckDir: BRAIN.Rcheck Warnings: 2