Package: BGmix Version: 1.52.0 Command: /home/biocbuild/bbs-3.13-bioc/R/bin/R CMD INSTALL BGmix StartedAt: 2021-10-14 06:02:38 -0400 (Thu, 14 Oct 2021) EndedAt: 2021-10-14 06:03:00 -0400 (Thu, 14 Oct 2021) EllapsedTime: 22.1 seconds RetCode: 0 Status: OK