Package: BGmix Version: 1.52.0 Command: /home/biocbuild/bbs-3.13-bioc/R/bin/R CMD check --install=check:BGmix.install-out.txt --library=/home/biocbuild/bbs-3.13-bioc/R/library --no-vignettes --timings BGmix_1.52.0.tar.gz StartedAt: 2021-10-14 08:59:24 -0400 (Thu, 14 Oct 2021) EndedAt: 2021-10-14 09:00:08 -0400 (Thu, 14 Oct 2021) EllapsedTime: 43.8 seconds RetCode: 0 Status: WARNINGS CheckDir: BGmix.Rcheck Warnings: 1