Package: BGmix Version: 1.52.0 Command: rm -rf BGmix.buildbin-libdir && mkdir BGmix.buildbin-libdir && /Users/biocbuild/BBS/utils/build-universal.sh BGmix_1.52.0.tar.gz /Library/Frameworks/R.framework/Versions/Current/Resources/bin/R BGmix.buildbin-libdir StartedAt: 2021-10-15 01:41:48 -0400 (Fri, 15 Oct 2021) EndedAt: 2021-10-15 01:42:57 -0400 (Fri, 15 Oct 2021) EllapsedTime: 69.4 seconds RetCode: 0 Status: OK PackageFile: BGmix_1.52.0.tgz PackageFileSize: 682.5 KiB