Package: BEAT Version: 1.30.0 Command: chmod a+r BEAT -R && C:\Users\biocbuild\bbs-3.13-bioc\R\bin\R.exe CMD build --keep-empty-dirs --no-resave-data BEAT StartedAt: 2021-10-14 11:58:44 -0400 (Thu, 14 Oct 2021) EndedAt: 2021-10-14 12:00:26 -0400 (Thu, 14 Oct 2021) EllapsedTime: 101.2 seconds RetCode: 0 Status: OK PackageFile: BEAT_1.30.0.tar.gz PackageFileSize: 3.128 MiB