Package: BEARscc Version: 1.12.0 Command: rm -rf BEARscc.buildbin-libdir && mkdir BEARscc.buildbin-libdir && C:\Users\biocbuild\bbs-3.13-bioc\R\bin\R.exe CMD INSTALL --merge-multiarch --build --library=BEARscc.buildbin-libdir BEARscc_1.12.0.tar.gz StartedAt: 2021-10-15 08:10:37 -0400 (Fri, 15 Oct 2021) EndedAt: 2021-10-15 08:11:51 -0400 (Fri, 15 Oct 2021) EllapsedTime: 73.8 seconds RetCode: 0 Status: OK PackageFile: BEARscc_1.12.0.zip PackageFileSize: 711.1 KiB