Package: BBCAnalyzer Version: 1.22.0 Command: /home/biocbuild/bbs-3.13-bioc/R/bin/R CMD INSTALL BBCAnalyzer StartedAt: 2021-10-14 06:30:05 -0400 (Thu, 14 Oct 2021) EndedAt: 2021-10-14 06:30:46 -0400 (Thu, 14 Oct 2021) EllapsedTime: 40.8 seconds RetCode: 0 Status: OK