Package: BAGS Version: 2.32.0 Command: C:\cygwin\bin\curl.exe -O http://155.52.207.165/BBS/3.13/bioc/src/contrib/BAGS_2.32.0.tar.gz && rm -rf BAGS.buildbin-libdir && mkdir BAGS.buildbin-libdir && C:\Users\biocbuild\bbs-3.13-bioc\R\bin\R.exe CMD INSTALL --merge-multiarch --build --library=BAGS.buildbin-libdir BAGS_2.32.0.tar.gz && C:\Users\biocbuild\bbs-3.13-bioc\R\bin\R.exe CMD INSTALL BAGS_2.32.0.zip && rm BAGS_2.32.0.tar.gz BAGS_2.32.0.zip StartedAt: 2021-10-14 07:28:46 -0400 (Thu, 14 Oct 2021) EndedAt: 2021-10-14 07:29:39 -0400 (Thu, 14 Oct 2021) EllapsedTime: 53.3 seconds RetCode: 0 Status: OK