Package: BAGS Version: 2.32.0 Command: chmod a+r BAGS -R && C:\Users\biocbuild\bbs-3.13-bioc\R\bin\R.exe CMD build --keep-empty-dirs --no-resave-data BAGS StartedAt: 2021-10-14 11:52:05 -0400 (Thu, 14 Oct 2021) EndedAt: 2021-10-14 11:53:15 -0400 (Thu, 14 Oct 2021) EllapsedTime: 69.7 seconds RetCode: 0 Status: OK PackageFile: BAGS_2.32.0.tar.gz PackageFileSize: 241 KiB