Package: BAGS Version: 2.32.0 Command: rm -rf BAGS.buildbin-libdir && mkdir BAGS.buildbin-libdir && C:\Users\biocbuild\bbs-3.13-bioc\R\bin\R.exe CMD INSTALL --merge-multiarch --build --library=BAGS.buildbin-libdir BAGS_2.32.0.tar.gz StartedAt: 2021-10-15 08:06:29 -0400 (Fri, 15 Oct 2021) EndedAt: 2021-10-15 08:07:52 -0400 (Fri, 15 Oct 2021) EllapsedTime: 83.4 seconds RetCode: 0 Status: OK PackageFile: BAGS_2.32.0.zip PackageFileSize: 322.9 KiB