Package: AssessORF Version: 1.10.0 Command: /Library/Frameworks/R.framework/Versions/Current/Resources/bin/R CMD INSTALL AssessORF StartedAt: 2021-10-14 08:43:08 -0400 (Thu, 14 Oct 2021) EndedAt: 2021-10-14 08:44:02 -0400 (Thu, 14 Oct 2021) EllapsedTime: 54.4 seconds RetCode: 0 Status: OK