Package: AssessORF Version: 1.10.0 Command: /Library/Frameworks/R.framework/Versions/Current/Resources/bin/R CMD build --keep-empty-dirs --no-resave-data AssessORF StartedAt: 2021-10-14 10:39:43 -0400 (Thu, 14 Oct 2021) EndedAt: 2021-10-14 10:40:39 -0400 (Thu, 14 Oct 2021) EllapsedTime: 55.8 seconds RetCode: 0 Status: OK PackageFile: AssessORF_1.10.0.tar.gz PackageFileSize: 4.695 MiB