Package: AnnotationHubData Version: 1.22.0 Command: /Library/Frameworks/R.framework/Versions/Current/Resources/bin/R CMD INSTALL AnnotationHubData StartedAt: 2021-10-14 09:54:42 -0400 (Thu, 14 Oct 2021) EndedAt: 2021-10-14 09:55:28 -0400 (Thu, 14 Oct 2021) EllapsedTime: 46.3 seconds RetCode: 0 Status: OK