git_url: https://git.bioconductor.org/packages/AnnotationHubData git_branch: RELEASE_3_13 git_last_commit: c2a76fb git_last_commit_date: 2021-05-19 12:15:21 -0400 (Wed, 19 May 2021) Package: AnnotationHubData Version: 1.22.0 Maintainer: Bioconductor Package Maintainer MaintainerEmail: maintainer at bioconductor.org