Package: AnnotationHub Version: 3.0.2 Command: C:\cygwin\bin\curl.exe -O http://155.52.207.165/BBS/3.13/bioc/src/contrib/AnnotationHub_3.0.2.tar.gz && rm -rf AnnotationHub.buildbin-libdir && mkdir AnnotationHub.buildbin-libdir && C:\Users\biocbuild\bbs-3.13-bioc\R\bin\R.exe CMD INSTALL --merge-multiarch --build --library=AnnotationHub.buildbin-libdir AnnotationHub_3.0.2.tar.gz && C:\Users\biocbuild\bbs-3.13-bioc\R\bin\R.exe CMD INSTALL AnnotationHub_3.0.2.zip && rm AnnotationHub_3.0.2.tar.gz AnnotationHub_3.0.2.zip StartedAt: 2021-10-14 08:25:49 -0400 (Thu, 14 Oct 2021) EndedAt: 2021-10-14 08:26:45 -0400 (Thu, 14 Oct 2021) EllapsedTime: 55.7 seconds RetCode: 0 Status: OK